BEGIN:VCALENDAR
VERSION:2.0
PRODID:-//Best Planter Indonesia - ECPv6.15.20//NONSGML v1.0//EN
CALSCALE:GREGORIAN
METHOD:PUBLISH
X-WR-CALNAME:Best Planter Indonesia
X-ORIGINAL-URL:https://bestplanterindonesia.com
X-WR-CALDESC:Events for Best Planter Indonesia
REFRESH-INTERVAL;VALUE=DURATION:PT1H
X-Robots-Tag:noindex
X-PUBLISHED-TTL:PT1H
BEGIN:VTIMEZONE
TZID:Asia/Jakarta
BEGIN:STANDARD
TZOFFSETFROM:+0700
TZOFFSETTO:+0700
TZNAME:WIB
DTSTART:20250101T000000
END:STANDARD
END:VTIMEZONE
BEGIN:VEVENT
DTSTART;TZID=Asia/Jakarta:20260420T100000
DTEND;TZID=Asia/Jakarta:20260420T120000
DTSTAMP:20260420T000023
CREATED:20260313T033214Z
LAST-MODIFIED:20260419T011125Z
UID:18273-1776679200-1776686400@bestplanterindonesia.com
SUMMARY:4 ASPEK TERPENTING UTK MENINGKATKAN PROFIT PABRIK KELAPA SAWIT
DESCRIPTION:Bisnis pabrik sawit sewajarnya pasti untung (profit)\, jika dikelola sesuai spesifikasi standar dan inline prosesnya dari input bahan baku sampai output CPO dan produk lainnya. \nAda 4 aspek pengelolaan pabrik untuk maksimalisasi profit\, yaitu raw material\, machinery\, manpower dan control system. \nKwalitas  bahan baku dan kesesuaian harga beli TBS dengan hasil Produksi menjadi kunci awal. Kehilangan minyak selama pengolahan (oil losses) menjadi faktor pengurang yg menjadi KPI utama Mill manager. Selain itu\, tergantung dari kemampuan mesin pabrik mengekstrak minyak yang ada dibuah yg dipengaruhi kwalitas mesin dan juga perawatan. \nFaktor MANPOWER dan CONTROL SYSTEM sangat penting untuk menjamin kelancaran OPERASIONAL PABRIK. \nIkuti pembahasan selengkapnya dalam pelatihan Online (via zoom) yang diselenggarakan Best Planter Indonesia (BPI) pada: \n📝 Hari\, tanggal: Sabtu\, 20 April 2026 \n⏰ Pukul: 10.00 – 12.00 WIB. \n😀 Narasumber : Bp. Bonar Saragih (Pakar dan Konsultan Pabrik Sawit). \nBiaya: 200.000/orang. \nTertarik untuk gabung dalam pelatihan ini? \nSilahkan isi pendaftaran di link berikut: https://s.id/profit-pabrik-bpi \nDownload Brosur: https://s.id/Y1vS7 \nKegiatan ini terselenggara atas kerjasama Best Planter Indonesia (BPI) dengan Forum Narasumber Sawit Indonesia (FNSI).
URL:https://bestplanterindonesia.com/events/aspek-terpenting-meningkatkan-profit-pabrik/
LOCATION:ZOOM\, Virtual
CATEGORIES:Event,Online Training
ATTACH;FMTTYPE=image/jpeg:https://bestplanterindonesia.com/wp-content/uploads/2026/03/WEB1-20-APR.jpg
ORGANIZER;CN="Best Planter Indonesia":MAILTO:bestplanterindonesia@gmail.com
END:VEVENT
BEGIN:VEVENT
DTSTART;TZID=Asia/Jakarta:20260421T080000
DTEND;TZID=Asia/Jakarta:20260423T170000
DTSTAMP:20260420T000023
CREATED:20260415T024905Z
LAST-MODIFIED:20260415T024905Z
UID:18336-1776758400-1776963600@bestplanterindonesia.com
SUMMARY:COACHING FOR PERFORMANCE
DESCRIPTION:Karyawan lebih mudah mencapai TARGET KERJA dengan menguasai COACHING FOR PERFORMANCE karena membuat kondisi karyawan dan timnya Lebih BERDAYA dan Kaya ALTERNATIF SOLUSI. \n\nKaryawan tidak capai target 2025?\nKinerja karyawan stagnan dari tahun ke tahun?\nOrangnya pintar tapi outputnya minim?\n\nCOACHING dibutuhkan karyawan saat ini. Mental block bisa dipecahkan dengan coaching. Karyawan motivasi rendah bisa diatasi dengan coaching. \nKEMBANGKAN POTENSI MAKSIMAL KARYAWAN MELALUI COACHING. \nBest Planter Indonesia (BPI) kembali menyelenggarakan Pelatihan Coaching for Performance Batch ke-23. \nDownload Brosur: https://s.id/LTp04 \nLink Pendaftaran: https://bit.ly/coaching-bpi \nInvestasi: 5 juta/orang
URL:https://bestplanterindonesia.com/events/coaching-for-performance/
LOCATION:Best Planter Indonesia\, Jl. Raya Cangkrang No.9\, Bogor\, Jawa Barat\, 16680\, Indonesia
CATEGORIES:Event
ATTACH;FMTTYPE=image/jpeg:https://bestplanterindonesia.com/wp-content/uploads/2026/04/WEB1-COACHING.jpg
ORGANIZER;CN="Best Planter Indonesia":MAILTO:bestplanterindonesia@gmail.com
END:VEVENT
BEGIN:VEVENT
DTSTART;TZID=Asia/Jakarta:20260425T100000
DTEND;TZID=Asia/Jakarta:20260425T120000
DTSTAMP:20260420T000023
CREATED:20260410T085110Z
LAST-MODIFIED:20260411T121559Z
UID:18326-1777111200-1777118400@bestplanterindonesia.com
SUMMARY:PELATIHAN PENGARUH APLIKASI MIKORIZA PADA PEMBIBITAN PN DAN MN
DESCRIPTION:Mikoriza berperan memperpanjang dan memperluas akar sawit\, sehingga bisa menyerap air dan hara lebih banyak\, memperkuat daya tahan tubuh tanaman terhadap hama penyakit. \n\nApakah Anda sudah aplikasi mikoriza\, tapi efeknya tidak signifikan?\nBaru mau aplikasi mikoriza\, karena kondisi bibitannya dibawah standar?\nMau tahu capa aplikasi mikoriza yang tepat sasaran?\n\nMikoriza sejatinya ada ditanah\, tapi jumlah dan perkembangbiakannya terbatas karena salah dalam pengelolaan tanah. Oleh sebab itu\, perlu ditambahkan kedalam ekosisten tanah terutama di pembibitan sawit. \nAPLIKASI MIKORIZA MENDUKUNG PERBAIKAN EKOSISTEM DIDALAM TANAH. \nBest Planter Indonesia (BPI) kembali menyelenggarakan Pelatihan Pengaruh Aplikasi Mikoriza pada Pembibitan PN dan MN secara Online (via Zoom) pada: \n📝 Hari\, tanggal: Sabtu\, 28 Februari 2026 \n⏰ Pukul: 10.00 – 12.00 WIB. \n😀 Narasumber : Bp. Adi Sutrisno (Praktisi Pembibitan Sawit). \nPeserta dibatasi 100 orang (kuota minimal: 10 orang). \nApa kelebihan pelatihan Online ini? \n\nPeserta tergabung di WAG Pembibitan Sawit BPI\, bisa konsultasi online pasca pelatihan.\nInformasi dan jaringan Planter terkait Pembibitan Sawit.\n\nBiaya: 100.000/orang. \nTertarik untuk gabung dalam pelatihan ini? \nSilahkan isi pendaftaran di link berikut: https://s.id/mikoriza-bpi \nDownload brosur: https://s.id/d9qr1 \nKegiatan ini terselenggara atas kerjasama Best Planter Indonesia (BPI) dengan Forum Narasumber Sawit Indonesia (FNSI).
URL:https://bestplanterindonesia.com/events/pelatihan-pengaruh-aplikasi-mikoriza-pada-pembibitan/
LOCATION:ZOOM\, Virtual
CATEGORIES:Event,Online Training
ATTACH;FMTTYPE=image/jpeg:https://bestplanterindonesia.com/wp-content/uploads/2026/04/WEB1-25-APR.jpg
ORGANIZER;CN="Best Planter Indonesia":MAILTO:bestplanterindonesia@gmail.com
END:VEVENT
BEGIN:VEVENT
DTSTART;TZID=Asia/Jakarta:20260428T080000
DTEND;TZID=Asia/Jakarta:20260430T170000
DTSTAMP:20260420T000023
CREATED:20260415T042121Z
LAST-MODIFIED:20260415T042121Z
UID:18341-1777363200-1777568400@bestplanterindonesia.com
SUMMARY:PELATIHAN SENSE OF BELONGING
DESCRIPTION:Perusahaan cepat TUMBUH & BERKEMBANG apabila SENSE OF BELONGING (Rasa Memiliki) terpatri kuat di hati Karyawan\, terpelihara integritas & loyalitas\, jauh dari penyimpangan & penipuan (fraud). \n\nKepedulian karyawan terhadap perusahaan rendah?\nKaryawan mengakali peraturan perusahaan?\nDatang tepat waktu\, pulang tepat waktu?\n\nRasa Memiliki dipupuk oleh rasa peduli\, peka terhadap kondisi perusahaan dan rasa senasib sepenanggungan antara karyawan dengan perusahaan. Karyawan menjadi aset paling berharga bagi perusahaan\, dan perusahaan tempat menggantungkan hidup bagi karyawan. \nMEMBANGUN KEBUN SAWIT ADALAH MEMBANGUN MANUSIANYA. \nBest Planter Indonesia (BPI) kembali menyelenggarakan Pelatihan Sense of Belonging Batch ke-5. \nTanggal: 28 – 30 April 2026 (3 hari). \nTempat: Pusdiklat BPI\, Dramaga – Bogor. \nBiaya Investasi: 5 juta/orang (Full Service). \nMeliputi: \n\nJemput antar bandara Cengkareng/ Halim.\nPenginapan diwisma BPI (triple bed sharing room).\nKonsumsi 3x makan 2x snack.\nSertifikat dan Pelatihan Kit.\nKomunitas Sense of Belonging BPI.\nRefreshing ke Kebun Raya & Istana Presiden Bogor.\nJemput antar ke Hotel terdekat (optional).\n\nPeserta dibatasi maksimal 18 orang. Pendaftaran ditutup jika kuota maksimal terpenuhi\, calon peserta dialihkan ke batch berikutnya. \nLink pendaftaran: https://s.id/sense-bpi \nDownload Brosur: https://s.id/kwQRH \nInfo lebih lanjut bisa menghubungi: 087873339576
URL:https://bestplanterindonesia.com/events/pelatihan-sense-of-belonging/
LOCATION:Best Planter Indonesia\, Jl. Raya Cangkrang No.9\, Bogor\, Jawa Barat\, 16680\, Indonesia
CATEGORIES:Event
ATTACH;FMTTYPE=image/jpeg:https://bestplanterindonesia.com/wp-content/uploads/2026/04/WEB1-SENSE.jpg
ORGANIZER;CN="Best Planter Indonesia":MAILTO:bestplanterindonesia@gmail.com
END:VEVENT
BEGIN:VEVENT
DTSTART;TZID=Asia/Jakarta:20260505T080000
DTEND;TZID=Asia/Jakarta:20260507T170000
DTSTAMP:20260420T000023
CREATED:20260415T091015Z
LAST-MODIFIED:20260415T093610Z
UID:18358-1777968000-1778173200@bestplanterindonesia.com
SUMMARY:PELATIHAN ADAPTATION LEADERSHIP
DESCRIPTION:TURN OVER KARYAWAN terkendali dengan ADAPTATION LEADERSHIP dengan mengelola PERSEPSI & KEINGINAN Gen Z\, tidak gampang tergoda dan beralih. \n\nKaryawan banyak yang pindah ke perusahaan lain?\nTidak betahan\, kerjanya tidak fokus?\nCepat stress (FOMO)\, rentan gangguan lingkungan dan teknologi?\n\nMayoritas karyawan adalah Gen Z dan minoritas Gen Milenial yang menjadi pimpinan unit kerja. Mau tidak mau\, MINORITAS beradaptasi dengan MAYORITAS. Pimpinan pernah muda\, Gen Z belum pernah tua. Jadilah Gen Milenial yang mengalah. \nMENGKADER PENERUS ADALAH KEWAJIBAN SEORANG LEADER. \nBest Planter Indonesia (BPI) kembali menyelenggarakan Pelatihan ADAPTATION LEADERSHIP Batch ke-4. \nTanggal: 5 – 7 Mei 2026 (3 hari). \nTempat: Pusdiklat BPI\, Dramaga – Bogor. \nBiaya Investasi: 5 juta/orang (Full Service). \nMeliputi: \n\nJemput antar bandara Cengkareng/ Halim.\nPenginapan diwisma BPI (triple bed sharing room).\nKonsumsi 3x makan 2x snack.\nSertifikat dan Pelatihan Kit.\nKomunitas Leadership BPI.\nRefreshing ke Kebun Raya & Istana Presiden Bogor.\nJemput antar ke Hotel terdekat (optional).\n\nPeserta dibatasi maksimal 18 orang. Pendaftaran ditutup jika kuota maksimal terpenuhi\, calon peserta dialihkan ke batch berikutnya. \nLink pendaftaran: https://s.id/adaptation-bpi \nDownload Brosur: https://s.id/Mhgco \nInfo lebih lanjut bisa menghubungi: 087873339576
URL:https://bestplanterindonesia.com/events/pelatihan-adaptation-leadership/
LOCATION:Best Planter Indonesia\, Jl. Raya Cangkrang No.9\, Bogor\, Jawa Barat\, 16680\, Indonesia
CATEGORIES:Event
ATTACH;FMTTYPE=image/jpeg:https://bestplanterindonesia.com/wp-content/uploads/2026/04/WEB1-ADAPTATION.jpg
ORGANIZER;CN="Best Planter Indonesia":MAILTO:bestplanterindonesia@gmail.com
END:VEVENT
BEGIN:VEVENT
DTSTART;TZID=Asia/Jakarta:20260512T100000
DTEND;TZID=Asia/Jakarta:20260512T120000
DTSTAMP:20260420T000023
CREATED:20260312T084137Z
LAST-MODIFIED:20260312T084137Z
UID:18264-1778580000-1778587200@bestplanterindonesia.com
SUMMARY:PENGELOLAAN KASTRASI DAN SANITASI DI TBM-3 SAWIT
DESCRIPTION:Kastrasi dan Sanitasi menjadi gerbang penentu sebelum masuk masa produksi (TM). \n\nJika Kastrasi dan Sanitasi berhasil\, maka sawit bisa panen di umur 30 – 36 bulan\, BJR minimal 4 kg/jjg dengan produksi 10 ton/ha/tahun ceteris paribus.\nJika gagal\, maka produksi tertunda dan bermasalah.\n\nKastrasi menjamin keseragaman buah saat dipanen\, dan sanitasi menjamin figur batang jagur dan kokoh. \n\nApakah sudah dilakukan kastrasi atau sanitasi? Bagaimana caranya?\nJika sudah masuk TM-1 tapi belum kastrasi dan sanitasi apa yang harus dilakukan?\nBerapa biaya ideal untuk melakukan kastrasi dan sanitasi?\n\nIkuti pembahasan selengkapnya dalam pelatihan Online (via zoom) yang diselenggarakan Best Planter Indonesia (BPI) pada: \n📝 Hari\, tanggal: Selasa\, 12 Mei 2026 \n⏰ Pukul: 10.00 – 12.00 WIB. \n😀 Narasumber : Bp. Cipriano Purba (Praktisi Sawit). \nBiaya: 100.000/orang. \nKegiatan ini terselenggara atas kerjasama Best Planter Indonesia (BPI) dengan Forum Narasumber Sawit Indonesia (FNSI).
URL:https://bestplanterindonesia.com/events/pengelolaan-kastrasi-dan-sanitasi/
LOCATION:ZOOM\, Virtual
CATEGORIES:Event,Online Training
ATTACH;FMTTYPE=image/jpeg:https://bestplanterindonesia.com/wp-content/uploads/2026/03/WEB1-12-MEI.jpg
ORGANIZER;CN="Best Planter Indonesia":MAILTO:bestplanterindonesia@gmail.com
END:VEVENT
BEGIN:VEVENT
DTSTART;TZID=Asia/Jakarta:20260516T100000
DTEND;TZID=Asia/Jakarta:20260516T120000
DTSTAMP:20260420T000023
CREATED:20260227T064155Z
LAST-MODIFIED:20260227T064155Z
UID:18216-1778925600-1778932800@bestplanterindonesia.com
SUMMARY:PELATIHAN PEMBIAKAN NEPHROLEPIS UNTUK ANTISIPASI KEMARAU
DESCRIPTION:Curah hujan memang tidak bisa dikontrol\, tapi mempertahankan air selama mungkin dilahan adalah kewajiban planter. \n\nApakah sudah lakukan antisipasi musim kemarau?\nMenjaga gawangan hijau saja tidak cukup\, harus menahan air lebih lama dilahan?\nBagaimana membiakan nephrolepis agar berkembang cepat?\n\nDimusim kemarau\, seringkali tanaman sawit kekurangan air sehingga munculnya bunga jantan. Akibatnya produksi turun (low crop). \nAntisipasi tanaman kekurangan air menjadi pilihan cerdas. \nApa kelebihan pelatihan Online ini? \n\nPeserta tergabung di WAG Perawatan Sawit BPI\, bisa konsultasi online pasca pelatihan.\nInformasi dan jaringan Planter terkait Perawatan Sawit.\n\nBiaya: 100.000/orang.
URL:https://bestplanterindonesia.com/events/pelatihan-pembiakan-nephrolepis-untuk-antisipasi-kemarau/
LOCATION:ZOOM\, Virtual
CATEGORIES:Event,Online Training
ATTACH;FMTTYPE=image/jpeg:https://bestplanterindonesia.com/wp-content/uploads/2026/02/WEB1.jpg
ORGANIZER;CN="Best Planter Indonesia":MAILTO:bestplanterindonesia@gmail.com
END:VEVENT
BEGIN:VEVENT
DTSTART;TZID=Asia/Jakarta:20260518T100000
DTEND;TZID=Asia/Jakarta:20260518T120000
DTSTAMP:20260420T000023
CREATED:20260312T030035Z
LAST-MODIFIED:20260312T030035Z
UID:18253-1779098400-1779105600@bestplanterindonesia.com
SUMMARY:TANTANGAN DAN CEK POINT KEBERHASILAN PERAWATAN KEBUN TBM
DESCRIPTION:Normalkan kondisi pokok sawit TBM Anda? Apa indikatornya?\nJika kebun TBM saat ini kondisinya tidak normal\, apa yang harus dilakukan?\nBagaimana menjamin perawatan kebun TBM ini bisa menghasilkan produksi yang tinggi dikala TM?\n\nSetelah pertumbuhan vegetatif (akar\, batang\, daun) tanaman terpenuhi\, barulah pokok sawit mulai berbunga dan berbuah. Dengan perawatan masa TBM yang baik dan benar\, sawit bisa dipanen normal umur 24 – 30 bulan dengan BJR >4 kg/janjang dengan produksi >10 ton/ha/tahun.  \nMasa TBM (Tanaman Belum Menghasilkan) adalah masa paling krusial bagi TANAMAN sawit. \nIkuti pembahasan selengkapnya dalam pelatihan Online (via zoom) yang diselenggarakan Best Planter Indonesia (BPI) pada: \n📝 Hari\, tanggal: Senin\, 18 Mei 2026 \n⏰ Pukul: 10.00 – 12.00 WIB. \n😀 Narasumber : Bp. M. Niam (Praktisi Sawit\, Alumni Astra). \nBiaya: 100.000/orang. \nKegiatan ini terselenggara atas kerjasama Best Planter Indonesia (BPI) dengan Forum Narasumber Sawit Indonesia (FNSI).
URL:https://bestplanterindonesia.com/events/keberhasilan-perawatan-kebun-tbm/
LOCATION:ZOOM\, Virtual
CATEGORIES:Event,Online Training
ATTACH;FMTTYPE=image/jpeg:https://bestplanterindonesia.com/wp-content/uploads/2026/03/WEB1-18-MEI.jpg
ORGANIZER;CN="Best Planter Indonesia":MAILTO:bestplanterindonesia@gmail.com
END:VEVENT
BEGIN:VEVENT
DTSTART;TZID=Asia/Jakarta:20260523T100000
DTEND;TZID=Asia/Jakarta:20260523T120000
DTSTAMP:20260420T000023
CREATED:20260312T064554Z
LAST-MODIFIED:20260312T064554Z
UID:18258-1779530400-1779537600@bestplanterindonesia.com
SUMMARY:ANALISA KESUKSESAN REPLANTING SECARA TEKNIS BUDIDAYA DAN BESARAN BIAYA
DESCRIPTION:Replanting siklus ke-2 menjadi momentum yang pas untuk perbaikan produktivitas kebun sawit. \n\nDari sisi produksi diharapkan lebih tinggi dibandingkan siklus ke-1.\nSecara fisik tanaman lebih jagur dan lebih sehat.\nSecara lahan\, biasanya terjadi penurunan kualitas. Oleh sebab itu perlu diperbaiki baik kesuburan tanahnya maupun kesehatan lahannya.\n\nTantangan saat Replanting adalah serangan hama penyakit dan biaya operasional yang meningkat. Perlu perencanaan yang matang dengan mendahulukan prinsip antisipasi dibandingkan penanggulangan. Persiapan modal replanting pun minimal sampai tahun ke-6 setelah tanam. \nReplanting mencerminkan niat dan usaha untuk KESEJAHTERAAN SAMPAI 25 tahun kedepan. \nIkuti pembahasan selengkapnya dalam pelatihan Online (via zoom) yang diselenggarakan Best Planter Indonesia (BPI) pada: \n📝 Hari\, tanggal: Sabtu\, 23 Mei 2026 \n⏰ Pukul: 10.00 – 12.00 WIB. \n😀 Narasumber : Bp. Fahrudin (Praktisi Sawit). \nBiaya: 100.000/orang. \nKegiatan ini terselenggara atas kerjasama Best Planter Indonesia (BPI) dengan Forum Narasumber Sawit Indonesia (FNSI).
URL:https://bestplanterindonesia.com/events/analisa-kesuksesan-replanting/
LOCATION:ZOOM\, Virtual
CATEGORIES:Event,Online Training
ATTACH;FMTTYPE=image/jpeg:https://bestplanterindonesia.com/wp-content/uploads/2026/03/WEB1-23-MEI.jpg
ORGANIZER;CN="Best Planter Indonesia":MAILTO:bestplanterindonesia@gmail.com
END:VEVENT
BEGIN:VEVENT
DTSTART;TZID=Asia/Jakarta:20260530T100000
DTEND;TZID=Asia/Jakarta:20260530T120000
DTSTAMP:20260420T000023
CREATED:20260313T030319Z
LAST-MODIFIED:20260313T030319Z
UID:18269-1780135200-1780142400@bestplanterindonesia.com
SUMMARY:PENURUNAN BIAYA OLAH PABRIK DENGAN MENGELOLA MAINTENANCE DAN REPAIR
DESCRIPTION:Pada kondisi pabrik stop olah atau malah breakdown total\, maka biaya maintenance dan repair jadi membengkak dan kerugian operasional adalah hal yang pasti. \nPrinsip pengelolaan pabrik\, preventive maintenance jauh lebih baik dari curative maintenance. Preventive lebih bisa diprediksi dari siklus kerja\, umur pakai sparepart maupun spesifikasi bahan dan alat. Dengan perawatan alat (maintenance) dan perbaikan alat (repair) secara baik dan terencana maka biaya olah pabrik bisa diturunkan. \nBENGKAKNYA BIAYA MAINTENANCE DAN REPAIR ADALAH MIS-MANAGEMENT DARI PEGNELOLAAN PABRIK. \nIkuti pembahasan selengkapnya dalam pelatihan Online (via zoom) yang diselenggarakan Best Planter Indonesia (BPI) pada: \n📝 Hari\, tanggal: Sabtu\, 30 Mei 2026 \n⏰ Pukul: 10.00 – 12.00 WIB. \n😀 Narasumber : Bp. Budi Andika (Praktisi Pabrik Sawit). \nBiaya: 100.000/orang. \nKegiatan ini terselenggara atas kerjasama Best Planter Indonesia (BPI) dengan Forum Narasumber Sawit Indonesia (FNSI).
URL:https://bestplanterindonesia.com/events/penurunan-biaya-olah-pabrik/
LOCATION:ZOOM\, Virtual
CATEGORIES:Event,Online Training
ATTACH;FMTTYPE=image/jpeg:https://bestplanterindonesia.com/wp-content/uploads/2026/03/WEB1-30-MEI.jpg
ORGANIZER;CN="Best Planter Indonesia":MAILTO:bestplanterindonesia@gmail.com
END:VEVENT
BEGIN:VEVENT
DTSTART;TZID=Asia/Jakarta:20260609T100000
DTEND;TZID=Asia/Jakarta:20260609T120000
DTSTAMP:20260420T000023
CREATED:20260306T073231Z
LAST-MODIFIED:20260306T073231Z
UID:18235-1780999200-1781006400@bestplanterindonesia.com
SUMMARY:PEMBUATAN DAN APLIKASI PUPUK ORGANIK CAIR DI PERKEBUNAN
DESCRIPTION:Pupuk organik cair (POC) biayanya murah meriah\, mudah dibuat\, bisa dikombinasikan berbagai jenis\, dan mengandung mikroba bermanfaat. \nKetergantungan dengan pupuk pabrikan bisa disiasati dengan membuat pupuk organik cair sendiri. Bahan bakunya melimpah dari limbah rumah tangga dan dapat dibuat dalam waktu 2 minggu menggunakan metode fermentasi. \nPakem pupuk sawit harus padatan\, diaplikasi dengan ditabur perlahan dilengkapi dengan kearifan lokal\, yaitu pupuk organik cair (POC). Aplikasi POC butuh air banyak\, sejalan dengan pohon sawit butuh air untuk fotosintesis. Prinsip aplikasi POC seperti halnya penyemprotan gulma pada sawit. \nPupuk pabrikan (mengandung hara) + Pupuk Organik Cair (mengandung mikroba) = Hasil panen melimpah. \nIkuti pembahasan selengkapnya di pelatihan online via Zoom yang diselenggarakan Best Planter Indonesia (BPI) pada: \n📝 Hari\, tanggal: Selasa\, 9 Juni 2026 \n⏰ Pukul: 10.00 – 12.00 WIB. \n😀 Narasumber : Bp. Ir. Hasan Basri\, MM (Widyaiswara Bapeltan Lampung). \nPeserta dibatasi 100 orang (kuota minimal: 10 orang). \nApa kelebihan pelatihan Online ini? \n\nPeserta tergabung di WAG Pupuk Organik Cair BPI\, bisa konsultasi online pasca pelatihan.\nInformasi dan jaringan Planter terkait Pupuk Organik Cair.\n\nBiaya: 100.000/orang. \nKegiatan ini terselenggara atas kerjasama Best Planter Indonesia (BPI) dengan Forum Narasumber Sawit Indonesia (FNSI).
URL:https://bestplanterindonesia.com/events/pembuatan-dan-aplikasi-pupuk-organik-cair/
LOCATION:ZOOM\, Virtual
CATEGORIES:Event,Online Training
ATTACH;FMTTYPE=image/jpeg:https://bestplanterindonesia.com/wp-content/uploads/2026/03/WEB1-PUPUK-ORGANIK-CAIR.jpg
ORGANIZER;CN="Best Planter Indonesia":MAILTO:bestplanterindonesia@gmail.com
END:VEVENT
BEGIN:VEVENT
DTSTART;TZID=Asia/Jakarta:20260612T140000
DTEND;TZID=Asia/Jakarta:20260612T160000
DTSTAMP:20260420T000023
CREATED:20260305T085115Z
LAST-MODIFIED:20260309T081942Z
UID:18226-1781272800-1781280000@bestplanterindonesia.com
SUMMARY:MENGATASI ENDEMIK GANODERMA MELALUI PENYEHATAN LAHAN
DESCRIPTION:Endemik ganoderma ibaratnya penduduk asli yang mengamuk karena kampungnya rusak oleh pendatang. Penggunaan bahan kimia baik pupuk\, herbisida maupun pestisida secara berlebihan dan terus menerus pada budidaya monokultur sawit disinyalir menyebabkan ketidakseimbangan ekosistem dan menjadikan lahan terdegradasi. Hal ini memaksa Ganoderma mencari sumber makanan baru yaitu batang sawit. \nJika keseimbangan ekosistem dapat dikembalikan\, maka secara otomatis Ganoderma akan terisolasi dan tidak lagi menyerang batang sawit. Penyehatan lahan menjadi kunci dalam mengatasi endemik ganoderma. Dengan perlakuan tertentu\, dilahan yang dulunya endemik ganoderma\, sekarang SPH tetap normal\, produksi pun tembus 30 ton/ha/tahun. \nIkuti pembahasan selengkapnya di pelatihan online via Zoom yang diselenggarakan Best Planter Indonesia (BPI) pada: \nHari\, tanggal: Jum’at\, 12 Juni 2026 \nPukul: 14.00 – 16.00 WIB. \nNarasumber : Bp. M. Bernard N. Sitorus (Praktisi Sawit dan Pemerhati Ganoderma). \nPeserta dibatasi 100 orang (kuota minimal: 10 orang). \nApa kelebihan pelatihan Online ini? \n\nPeserta tergabung di WAG Ganoderma BPI\, bisa konsultasi online pasca pelatihan.\nInformasi dan jaringan Planter terkait Ganoderma.\n\nBiaya: 100.000/orang. \nKegiatan ini terselenggara atas kerjasama Best Planter Indonesia (BPI) dengan Forum Narasumber Sawit Indonesia (FNSI).
URL:https://bestplanterindonesia.com/events/mengatasi-endemik-ganoderma/
LOCATION:ZOOM\, Virtual
CATEGORIES:Event,Online Training
ATTACH;FMTTYPE=image/jpeg:https://bestplanterindonesia.com/wp-content/uploads/2026/03/WEB1-12-JUNI.jpg
ORGANIZER;CN="Best Planter Indonesia":MAILTO:bestplanterindonesia@gmail.com
END:VEVENT
BEGIN:VEVENT
DTSTART;TZID=Asia/Jakarta:20260618T100000
DTEND;TZID=Asia/Jakarta:20260618T120000
DTSTAMP:20260420T000023
CREATED:20260306T044657Z
LAST-MODIFIED:20260309T050318Z
UID:18230-1781776800-1781784000@bestplanterindonesia.com
SUMMARY:ANTISIPASI SERANGAN KUMBANG BADAK PADA SAAT REPLANTING SAWIT
DESCRIPTION:Larva kumbang badak memakan empulur batang yang membusuk. \nBekas chippingan dan bonggol akar saat replanting sangat ideal menjadi rumah sekaligus bahan makan bagi larva kumbang badak. \n3 bulan setelah pohon ditumbang\, larva kumbang badak mulai memakan batang yang melapuk. \n9 bulan kemudian\, kumbang badak dewasa beterbangan ke pucuk daun\, masuk ke umbut di pangkal pucuk untuk mencari makanan. \nDan tragedi pun dimulai…. \nAntisipasi serangan kumbang badak adalah mengkondisikan lahan replanting sebagai rumah yang tidak nyaman bagi kumbang badak. \nIkuti pembahasan selengkapnya di pelatihan online via Zoom yang diselenggarakan Best Planter Indonesia (BPI) pada: \n📝 Hari\, tanggal: Kamis\, 18 Juni 2026 \n⏰ Pukul: 10.00 – 12.00 WIB. \n😀 Narasumber : Bp. Dr. Agus Susanto (Pakar Hama Penyakit Perkebunan). \nPeserta dibatasi 100 orang (kuota minimal: 10 orang). \nApa kelebihan pelatihan Online ini? \n\nPeserta tergabung di WAG Kumbang Badak BPI\, bisa konsultasi online pasca pelatihan.\nInformasi dan jaringan Planter terkait Kumbang Badak.\n\nBiaya: 100.000/orang. \nKegiatan ini terselenggara atas kerjasama Best Planter Indonesia (BPI) dengan Forum Narasumber Sawit Indonesia (FNSI).
URL:https://bestplanterindonesia.com/events/antisipasi-serangan-kumbang-badak/
LOCATION:ZOOM\, Virtual
CATEGORIES:Event,Online Training
ATTACH;FMTTYPE=image/jpeg:https://bestplanterindonesia.com/wp-content/uploads/2026/03/WEB1-KUMBANG-BADAK.jpg
ORGANIZER;CN="Best Planter Indonesia":MAILTO:bestplanterindonesia@gmail.com
END:VEVENT
END:VCALENDAR